BEGIN:VCALENDAR
VERSION:2.0
PRODID:-//Prayog Theatre - ECPv5.14.1//NONSGML v1.0//EN
CALSCALE:GREGORIAN
METHOD:PUBLISH
X-WR-CALNAME:Prayog Theatre
X-ORIGINAL-URL:https://prayogtheater.com
X-WR-CALDESC:Events for Prayog Theatre
BEGIN:VTIMEZONE
TZID:UTC
BEGIN:STANDARD
TZOFFSETFROM:+0000
TZOFFSETTO:+0000
TZNAME:UTC
DTSTART:20190101T000000
END:STANDARD
END:VTIMEZONE
BEGIN:VEVENT
DTSTART;TZID=UTC:20190306T120000
DTEND;TZID=UTC:20190306T130000
DTSTAMP:20260422T173356
CREATED:20190306T120041Z
LAST-MODIFIED:20190224T170947Z
UID:28822-1551873600-1551877200@prayogtheater.com
SUMMARY:Shatrugandh !!!
DESCRIPTION:To be played at Natya Darpan Annual Drama festival in New Jersey.
URL:https://prayogtheater.com/play/shatrugandh/
CATEGORIES:India,USA
ATTACH;FMTTYPE=image/jpeg:https://prayogtheater.com/wp-content/uploads/2018/11/PHOTO-2019-02-18-18-02-59.jpg
END:VEVENT
END:VCALENDAR