BEGIN:VCALENDAR
VERSION:2.0
PRODID:-//Prayog Theatre - ECPv5.14.1//NONSGML v1.0//EN
CALSCALE:GREGORIAN
METHOD:PUBLISH
X-WR-CALNAME:Prayog Theatre
X-ORIGINAL-URL:https://prayogtheater.com
X-WR-CALDESC:Events for Prayog Theatre
BEGIN:VTIMEZONE
TZID:UTC
BEGIN:STANDARD
TZOFFSETFROM:+0000
TZOFFSETTO:+0000
TZNAME:UTC
DTSTART:20220101T000000
END:STANDARD
END:VTIMEZONE
BEGIN:VEVENT
DTSTART;TZID=UTC:20220514T160000
DTEND;TZID=UTC:20220514T193000
DTSTAMP:20260422T174322
CREATED:20220303T103804Z
LAST-MODIFIED:20220404T102603Z
UID:28971-1652544000-1652556600@prayogtheater.com
SUMMARY:Hamlet - The Clown Prince (New Jersey)
DESCRIPTION:Starring: Rajat Kapoor\, Vinay Pathak\, Neil Bhoopalam\, Puja Sarup\, Aadar Malik\, Mansi Multani\, Mallika Singh \nDate – Saturday\, 14th May 2022\nTime – 4:00 PM to 7:30 PM\nVenue – Union County Performing Arts Center\,\n1601 Irving St\, Rahway NJ 07065 \nBook Your Ticket \nFor Booking / Enquiry Call: 908-720-5355
URL:https://prayogtheater.com/play/hamlet-the-clown-prince-new-jersey/
CATEGORIES:USA
ATTACH;FMTTYPE=image/jpeg:https://prayogtheater.com/wp-content/uploads/2022/03/play-hamlet.jpg
END:VEVENT
END:VCALENDAR